BEGIN:VCALENDAR
VERSION:2.0
PRODID:-//AshleYYY - ECPv6.15.18//NONSGML v1.0//EN
CALSCALE:GREGORIAN
METHOD:PUBLISH
X-ORIGINAL-URL:https://ashleyyy.com
X-WR-CALDESC:Events for AshleYYY
REFRESH-INTERVAL;VALUE=DURATION:PT1H
X-Robots-Tag:noindex
X-PUBLISHED-TTL:PT1H
BEGIN:VTIMEZONE
TZID:America/New_York
BEGIN:DAYLIGHT
TZOFFSETFROM:-0500
TZOFFSETTO:-0400
TZNAME:EDT
DTSTART:20230312T070000
END:DAYLIGHT
BEGIN:STANDARD
TZOFFSETFROM:-0400
TZOFFSETTO:-0500
TZNAME:EST
DTSTART:20231105T060000
END:STANDARD
BEGIN:DAYLIGHT
TZOFFSETFROM:-0500
TZOFFSETTO:-0400
TZNAME:EDT
DTSTART:20240310T070000
END:DAYLIGHT
BEGIN:STANDARD
TZOFFSETFROM:-0400
TZOFFSETTO:-0500
TZNAME:EST
DTSTART:20241103T060000
END:STANDARD
BEGIN:DAYLIGHT
TZOFFSETFROM:-0500
TZOFFSETTO:-0400
TZNAME:EDT
DTSTART:20250309T070000
END:DAYLIGHT
BEGIN:STANDARD
TZOFFSETFROM:-0400
TZOFFSETTO:-0500
TZNAME:EST
DTSTART:20251102T060000
END:STANDARD
END:VTIMEZONE
BEGIN:VEVENT
DTSTART;TZID=America/New_York:20240629T200000
DTEND;TZID=America/New_York:20240629T230000
DTSTAMP:20260424T082526
CREATED:20240606T155111Z
LAST-MODIFIED:20241028T134151Z
UID:261956-1719691200-1719702000@ashleyyy.com
SUMMARY:Chosen Stage Presents… Pressure Live!
DESCRIPTION:PRESSURE! LIVE \nIn honor & celebration of their 5th year anniversary\, Chosen Stage is proud to announce their first LIVE dance showcase\, PRESSURE! Founder\, creative director\, and choreographer\, Mrs. Raven Rowan\, has been training in all styles of dance since early childhood. She started her very own dance company in 2019\, and has expanded her brand from the DMV to Atlanta! AshleYYY has been training with & supporting Chosen Stage since then\, and can’t wait to DANCE in their showcase June 29th!! \nFREE ADMISSION!! Grab your tickets here: PRESSURE! LIVE \nVisit chosenstage.com to learn more about Raven\, her weekly classes\, and events!
URL:https://ashleyyy.com/event/chosen-stage-presents-pressure-live/
LOCATION:4U Recording Atlanta\, 1376 Chattahoochee Avenue Northwest\, Atlanta\, GA\, 30318\, United States
CATEGORIES:Dance Performances
ATTACH;FMTTYPE=image/png:https://ashleyyy.com/wp-content/uploads/2024/06/Chosen.png
END:VEVENT
END:VCALENDAR