BEGIN:VCALENDAR
VERSION:2.0
PRODID:-//AshleYYY - ECPv6.15.18//NONSGML v1.0//EN
CALSCALE:GREGORIAN
METHOD:PUBLISH
X-WR-CALNAME:AshleYYY
X-ORIGINAL-URL:https://ashleyyy.com
X-WR-CALDESC:Events for AshleYYY
REFRESH-INTERVAL;VALUE=DURATION:PT1H
X-Robots-Tag:noindex
X-PUBLISHED-TTL:PT1H
BEGIN:VTIMEZONE
TZID:America/New_York
BEGIN:DAYLIGHT
TZOFFSETFROM:-0500
TZOFFSETTO:-0400
TZNAME:EDT
DTSTART:20220313T070000
END:DAYLIGHT
BEGIN:STANDARD
TZOFFSETFROM:-0400
TZOFFSETTO:-0500
TZNAME:EST
DTSTART:20221106T060000
END:STANDARD
BEGIN:DAYLIGHT
TZOFFSETFROM:-0500
TZOFFSETTO:-0400
TZNAME:EDT
DTSTART:20230312T070000
END:DAYLIGHT
BEGIN:STANDARD
TZOFFSETFROM:-0400
TZOFFSETTO:-0500
TZNAME:EST
DTSTART:20231105T060000
END:STANDARD
BEGIN:DAYLIGHT
TZOFFSETFROM:-0500
TZOFFSETTO:-0400
TZNAME:EDT
DTSTART:20240310T070000
END:DAYLIGHT
BEGIN:STANDARD
TZOFFSETFROM:-0400
TZOFFSETTO:-0500
TZNAME:EST
DTSTART:20241103T060000
END:STANDARD
BEGIN:DAYLIGHT
TZOFFSETFROM:-0500
TZOFFSETTO:-0400
TZNAME:EDT
DTSTART:20250309T070000
END:DAYLIGHT
BEGIN:STANDARD
TZOFFSETFROM:-0400
TZOFFSETTO:-0500
TZNAME:EST
DTSTART:20251102T060000
END:STANDARD
BEGIN:DAYLIGHT
TZOFFSETFROM:-0500
TZOFFSETTO:-0400
TZNAME:EDT
DTSTART:20260308T070000
END:DAYLIGHT
BEGIN:STANDARD
TZOFFSETFROM:-0400
TZOFFSETTO:-0500
TZNAME:EST
DTSTART:20261101T060000
END:STANDARD
BEGIN:DAYLIGHT
TZOFFSETFROM:-0500
TZOFFSETTO:-0400
TZNAME:EDT
DTSTART:20270314T070000
END:DAYLIGHT
BEGIN:STANDARD
TZOFFSETFROM:-0400
TZOFFSETTO:-0500
TZNAME:EST
DTSTART:20271107T060000
END:STANDARD
END:VTIMEZONE
BEGIN:VEVENT
DTSTART;TZID=America/New_York:20260107T220000
DTEND;TZID=America/New_York:20260108T010000
DTSTAMP:20260424T051906
CREATED:20251216T005129Z
LAST-MODIFIED:20251216T010915Z
UID:262307-1767823200-1767834000@ashleyyy.com
SUMMARY:Birthday Edition: AshleYYY Live at Backstage Jams
DESCRIPTION:
URL:https://ashleyyy.com/event/ashleyyy-live-at-backstabirthday-edition-ashleyyy-live-at-backstage-jamsge-jams-birthday-edition/
LOCATION:Backstage\, 2505 Godby Rd\, Atlanta\, GA\, 30349\, United States
CATEGORIES:Live Performances
ATTACH;FMTTYPE=image/jpeg:https://ashleyyy.com/wp-content/uploads/2025/12/BACKSTAGE-JAMS-FLYER-2025-2.jpg
ORGANIZER;CN="AshleYYY":MAILTO:ashleyyymusic@gmail.com
END:VEVENT
BEGIN:VEVENT
DTSTART;TZID=America/New_York:20241006T150000
DTEND;TZID=America/New_York:20241006T180000
DTSTAMP:20260424T051906
CREATED:20241001T003635Z
LAST-MODIFIED:20241028T134333Z
UID:262016-1728226800-1728237600@ashleyyy.com
SUMMARY:Homecoming Kickoff Party (Morris Brown College)
DESCRIPTION:AshleYYY will be performing with a live band! Performance time 4:45PM. *Theme: 80s Throwbacks* FREE EVENT! Bring your lawn chairs & card tables! It’s gonna be a day party!
URL:https://ashleyyy.com/event/homecoming-kickoff-party-morris-brown-college/
LOCATION:Morris Brown College\, 643 Martin Luther King Jr. Drive\, Atlanta\, GA\, 30314\, United States
CATEGORIES:Live Performances
ATTACH;FMTTYPE=image/jpeg:https://ashleyyy.com/wp-content/uploads/2024/09/AshhleYYY-Purple-Haze.jpeg
END:VEVENT
BEGIN:VEVENT
DTSTART;TZID=America/New_York:20240913T170000
DTEND;TZID=America/New_York:20240913T220000
DTSTAMP:20260424T051906
CREATED:20240828T132210Z
LAST-MODIFIED:20241028T134136Z
UID:261998-1726246800-1726264800@ashleyyy.com
SUMMARY:Atlanta International Night Market
DESCRIPTION:AshleYYY will be performing live at the Atlanta International Night Market on Friday\, 9/13/24\, at 5:30 – 5:45 PM—one night only!
URL:https://ashleyyy.com/event/atlanta-international-night-market/
LOCATION:Lawrenceville Lawn\, 70 S. Clayton St.\, Lawrenceville\, GA\, 30046\, United States
CATEGORIES:Live Performances
ATTACH;FMTTYPE=image/png:https://ashleyyy.com/wp-content/uploads/2024/08/AshleYYY-The-International-Night-Market-Atlanta.png
END:VEVENT
BEGIN:VEVENT
DTSTART;TZID=America/New_York:20240901T170000
DTEND;TZID=America/New_York:20240901T174000
DTSTAMP:20260424T051906
CREATED:20240828T130458Z
LAST-MODIFIED:20241028T134146Z
UID:261987-1725210000-1725212400@ashleyyy.com
SUMMARY:Atlanta Hip Hop Day Festival
DESCRIPTION:AshleYYY will be performing live at the 15th Annual Atlanta Hip Hop Day Festival.
URL:https://ashleyyy.com/event/atlanta-hip-hop-day-festival/
LOCATION:Historic 4th Ward Park\, 680 Dallas St NE\, Atlanta\, Atlanta\, GA\, 30308\, United States
CATEGORIES:Live Performances
ATTACH;FMTTYPE=image/jpeg:https://ashleyyy.com/wp-content/uploads/2024/08/AshleYYY-ATL-Hip-Hop-Day.jpg
END:VEVENT
BEGIN:VEVENT
DTSTART;TZID=America/New_York:20240425T200000
DTEND;TZID=America/New_York:20240425T200000
DTSTAMP:20260424T051906
CREATED:20240416T140027Z
LAST-MODIFIED:20241028T134155Z
UID:261907-1714075200-1714075200@ashleyyy.com
SUMMARY:One Love One Mic: 10 Year Anniversary Concert
DESCRIPTION:Buy 2 Tickets and get a FREE signed copy of AshleYYY’s NEW HOME CD.\n \nCan’t make the show & still wanna support? Gift your tickets to a friend & keep the CD for yourself! \nAdmission is $30 at the door\, so please get your tix in advance. THANK YOU for your support\, always!
URL:https://ashleyyy.com/event/one-love-one-mic-10-year-anniversary-concert/
LOCATION:Believe Music Hall\, 181 Ralph David Abernathy Blvd\, Atlanta\, 30312\, United States
CATEGORIES:Live Performances
ATTACH;FMTTYPE=image/jpeg:https://ashleyyy.com/wp-content/uploads/2024/04/IMG_1251.jpeg
END:VEVENT
BEGIN:VEVENT
DTSTART;TZID=America/New_York:20240110T220000
DTEND;TZID=America/New_York:20240111T010000
DTSTAMP:20260424T051906
CREATED:20231222T164312Z
LAST-MODIFIED:20241028T134159Z
UID:261846-1704924000-1704934800@ashleyyy.com
SUMMARY:BIRTHDAY CELEBRATION: AshleYYY Live at Backstage Jams
DESCRIPTION:  \n\n\n\n\n\n\n\n\n\n\nView this post on Instagram\n\n\n\n\n\n\n\n\n\n\n\n\n\n\n\n\n\n\n\n\n\n\n  \nA post shared by AshleYYY™ (@ashleyyymusic)
URL:https://ashleyyy.com/event/birthday-celebration-ashleyyy-live-at-backstage-jams/
LOCATION:Backstage\, 2505 Godby Rd\, Atlanta\, GA\, 30349\, United States
CATEGORIES:Live Performances
ATTACH;FMTTYPE=image/jpeg:https://ashleyyy.com/wp-content/uploads/2023/12/IMG_4298.jpeg
ORGANIZER;CN="AshleYYY":MAILTO:ashleyyymusic@gmail.com
END:VEVENT
BEGIN:VEVENT
DTSTART;VALUE=DATE:20230930
DTEND;VALUE=DATE:20231001
DTSTAMP:20260424T051906
CREATED:20230728T133219Z
LAST-MODIFIED:20231102T005352Z
UID:260937-1696032000-1696118399@ashleyyy.com
SUMMARY:Sweet Auburn Music Festival
DESCRIPTION:Performance Time: 2:30
URL:https://ashleyyy.com/event/sweet-auburn-music-festival/
LOCATION:Sweet Auburn Music Festival\, 320 Irwin St NE.\, Atlanta\, GA\, 30312\, United States
CATEGORIES:Live Performances
ATTACH;FMTTYPE=image/png:https://ashleyyy.com/wp-content/uploads/2023/07/sweet-auburn-music-fest-AshleYYY.png
ORGANIZER;CN="Sweet Auburn Music Festival":MAILTO:SAMF@SweetAuburnMusicFest.com
END:VEVENT
END:VCALENDAR