BEGIN:VCALENDAR
VERSION:2.0
PRODID:-//AshleYYY - ECPv6.15.18//NONSGML v1.0//EN
CALSCALE:GREGORIAN
METHOD:PUBLISH
X-ORIGINAL-URL:https://ashleyyy.com
X-WR-CALDESC:Events for AshleYYY
REFRESH-INTERVAL;VALUE=DURATION:PT1H
X-Robots-Tag:noindex
X-PUBLISHED-TTL:PT1H
BEGIN:VTIMEZONE
TZID:America/New_York
BEGIN:DAYLIGHT
TZOFFSETFROM:-0500
TZOFFSETTO:-0400
TZNAME:EDT
DTSTART:20220313T070000
END:DAYLIGHT
BEGIN:STANDARD
TZOFFSETFROM:-0400
TZOFFSETTO:-0500
TZNAME:EST
DTSTART:20221106T060000
END:STANDARD
BEGIN:DAYLIGHT
TZOFFSETFROM:-0500
TZOFFSETTO:-0400
TZNAME:EDT
DTSTART:20230312T070000
END:DAYLIGHT
BEGIN:STANDARD
TZOFFSETFROM:-0400
TZOFFSETTO:-0500
TZNAME:EST
DTSTART:20231105T060000
END:STANDARD
BEGIN:DAYLIGHT
TZOFFSETFROM:-0500
TZOFFSETTO:-0400
TZNAME:EDT
DTSTART:20240310T070000
END:DAYLIGHT
BEGIN:STANDARD
TZOFFSETFROM:-0400
TZOFFSETTO:-0500
TZNAME:EST
DTSTART:20241103T060000
END:STANDARD
END:VTIMEZONE
BEGIN:VEVENT
DTSTART;TZID=America/New_York:20230831T200000
DTEND;TZID=America/New_York:20230831T220000
DTSTAMP:20260424T065049
CREATED:20230728T133950Z
LAST-MODIFIED:20230904T153834Z
UID:260941-1693512000-1693519200@ashleyyy.com
SUMMARY:Smooth Grooves
DESCRIPTION:ABOUT THE CONFIDENT WOMAN \n\n\n\n\nAshleYYY™ created The Confident Woman (Dance Class) in 2018. Her goal is for women to feel empowered and to unleash their inner confidence through the art of dance & performance. No dance experience needed. Just come willing to learn & ready to move!
URL:https://ashleyyy.com/event/smooth-grooves/
LOCATION:Soul Asylum Studios\, 6113 Buford Hwy NE\, Atlanta\, GA\, 30340\, United States
CATEGORIES:The Confident Women
ATTACH;FMTTYPE=image/png:https://ashleyyy.com/wp-content/uploads/2023/08/AshleYYY-The-Confident-Woman-22.png
ORGANIZER;CN="AshleYYY":MAILTO:ashleyyymusic@gmail.com
END:VEVENT
END:VCALENDAR